BEGIN:VCALENDAR
VERSION:2.0
PRODID:xiiaba.hkust.edu.hk
BEGIN:VEVENT
UID:69e7c537a40c8
DTSTART;VALUE=DATE:20260112
SEQUENCE:0
TRANSP:OPAQUE
DTEND;VALUE=DATE:20260115
SUMMARY:12th ABA Symposium
CLASS:PUBLIC
DESCRIPTION:12th ABA Symposium
X-MICROSOFT-CDO-ALLDAYEVENT:TRUE
DTSTAMP:20260421T184303Z
END:VEVENT
END:VCALENDAR